BEGIN:VCALENDAR
VERSION:2.0
PRODID:-//ELC - ECPv6.15.16//NONSGML v1.0//EN
CALSCALE:GREGORIAN
METHOD:PUBLISH
X-WR-CALNAME:ELC
X-ORIGINAL-URL:https://earlylearningcoalitionsarasota.org
X-WR-CALDESC:Events for ELC
REFRESH-INTERVAL;VALUE=DURATION:PT1H
X-Robots-Tag:noindex
X-PUBLISHED-TTL:PT1H
BEGIN:VTIMEZONE
TZID:America/New_York
BEGIN:DAYLIGHT
TZOFFSETFROM:-0500
TZOFFSETTO:-0400
TZNAME:EDT
DTSTART:20230312T070000
END:DAYLIGHT
BEGIN:STANDARD
TZOFFSETFROM:-0400
TZOFFSETTO:-0500
TZNAME:EST
DTSTART:20231105T060000
END:STANDARD
BEGIN:DAYLIGHT
TZOFFSETFROM:-0500
TZOFFSETTO:-0400
TZNAME:EDT
DTSTART:20240310T070000
END:DAYLIGHT
BEGIN:STANDARD
TZOFFSETFROM:-0400
TZOFFSETTO:-0500
TZNAME:EST
DTSTART:20241103T060000
END:STANDARD
BEGIN:DAYLIGHT
TZOFFSETFROM:-0500
TZOFFSETTO:-0400
TZNAME:EDT
DTSTART:20250309T070000
END:DAYLIGHT
BEGIN:STANDARD
TZOFFSETFROM:-0400
TZOFFSETTO:-0500
TZNAME:EST
DTSTART:20251102T060000
END:STANDARD
END:VTIMEZONE
BEGIN:VEVENT
DTSTART;TZID=America/New_York:20240617T103000
DTEND;TZID=America/New_York:20240617T120000
DTSTAMP:20260424T210146
CREATED:20240611T122022Z
LAST-MODIFIED:20240611T122022Z
UID:10803-1718620200-1718625600@earlylearningcoalitionsarasota.org
SUMMARY:Information Meeting for Businesses on childcare issues
DESCRIPTION:This is a follow up Business Task Force meeting.  Since so many who answered the survey are interested in learning more about several issues including tax credits for those businesses that can offer onsite childcare or assist their employees through financial support\, we have set up an initial meeting to share more details. \nRepresentative Fiona McFarland who strongly advocated for these business tax credits will be speaking at this meeting on Monday\, June 17th from 10:30 to noon to share the details of what she was able to get passed this year during legislative session. ELC will be there as well to share additional information for local businesses on childcare as well as opportunities for task force involvement to continue to work on the issues.
URL:https://earlylearningcoalitionsarasota.org/event/information-meeting-for-businesses-on-childcare-issues
LOCATION:Realtor Association of Sarasota and Manatee\, Inc.\, 2320 Cattlemen Road\, Sarasota\, 34232\, United States
END:VEVENT
END:VCALENDAR