BEGIN:VCALENDAR
VERSION:2.0
PRODID:-//ELC - ECPv6.15.16//NONSGML v1.0//EN
CALSCALE:GREGORIAN
METHOD:PUBLISH
X-ORIGINAL-URL:https://earlylearningcoalitionsarasota.org
X-WR-CALDESC:Events for ELC
REFRESH-INTERVAL;VALUE=DURATION:PT1H
X-Robots-Tag:noindex
X-PUBLISHED-TTL:PT1H
BEGIN:VTIMEZONE
TZID:America/New_York
BEGIN:DAYLIGHT
TZOFFSETFROM:-0500
TZOFFSETTO:-0400
TZNAME:EDT
DTSTART:20240310T070000
END:DAYLIGHT
BEGIN:STANDARD
TZOFFSETFROM:-0400
TZOFFSETTO:-0500
TZNAME:EST
DTSTART:20241103T060000
END:STANDARD
BEGIN:DAYLIGHT
TZOFFSETFROM:-0500
TZOFFSETTO:-0400
TZNAME:EDT
DTSTART:20250309T070000
END:DAYLIGHT
BEGIN:STANDARD
TZOFFSETFROM:-0400
TZOFFSETTO:-0500
TZNAME:EST
DTSTART:20251102T060000
END:STANDARD
BEGIN:DAYLIGHT
TZOFFSETFROM:-0500
TZOFFSETTO:-0400
TZNAME:EDT
DTSTART:20260308T070000
END:DAYLIGHT
BEGIN:STANDARD
TZOFFSETFROM:-0400
TZOFFSETTO:-0500
TZNAME:EST
DTSTART:20261101T060000
END:STANDARD
END:VTIMEZONE
BEGIN:VEVENT
DTSTART;TZID=America/New_York:20250623T120000
DTEND;TZID=America/New_York:20250623T150000
DTSTAMP:20260422T080722
CREATED:20250604T130555Z
LAST-MODIFIED:20250604T130555Z
UID:11175-1750680000-1750690800@earlylearningcoalitionsarasota.org
SUMMARY:Multiple board members will be attending this meeting
DESCRIPTION:
URL:https://earlylearningcoalitionsarasota.org/event/multiple-board-members-will-be-attending-this-meeting
LOCATION:Barancik Foundation\, 1515 Ringling Blvd\, Ste 500\, Sarasota\, FL\, 34236\, United States
END:VEVENT
END:VCALENDAR