BEGIN:VCALENDAR
VERSION:2.0
PRODID:-//ELC - ECPv6.15.16//NONSGML v1.0//EN
CALSCALE:GREGORIAN
METHOD:PUBLISH
X-WR-CALNAME:ELC
X-ORIGINAL-URL:https://earlylearningcoalitionsarasota.org
X-WR-CALDESC:Events for ELC
REFRESH-INTERVAL;VALUE=DURATION:PT1H
X-Robots-Tag:noindex
X-PUBLISHED-TTL:PT1H
BEGIN:VTIMEZONE
TZID:America/New_York
BEGIN:DAYLIGHT
TZOFFSETFROM:-0500
TZOFFSETTO:-0400
TZNAME:EDT
DTSTART:20240310T070000
END:DAYLIGHT
BEGIN:STANDARD
TZOFFSETFROM:-0400
TZOFFSETTO:-0500
TZNAME:EST
DTSTART:20241103T060000
END:STANDARD
BEGIN:DAYLIGHT
TZOFFSETFROM:-0500
TZOFFSETTO:-0400
TZNAME:EDT
DTSTART:20250309T070000
END:DAYLIGHT
BEGIN:STANDARD
TZOFFSETFROM:-0400
TZOFFSETTO:-0500
TZNAME:EST
DTSTART:20251102T060000
END:STANDARD
BEGIN:DAYLIGHT
TZOFFSETFROM:-0500
TZOFFSETTO:-0400
TZNAME:EDT
DTSTART:20260308T070000
END:DAYLIGHT
BEGIN:STANDARD
TZOFFSETFROM:-0400
TZOFFSETTO:-0500
TZNAME:EST
DTSTART:20261101T060000
END:STANDARD
END:VTIMEZONE
BEGIN:VEVENT
DTSTART;TZID=America/New_York:20250818T173000
DTEND;TZID=America/New_York:20250818T193000
DTSTAMP:20260422T080742
CREATED:20250811T112049Z
LAST-MODIFIED:20250811T112049Z
UID:11260-1755538200-1755545400@earlylearningcoalitionsarasota.org
SUMMARY:Special Board Meeting
DESCRIPTION:
URL:https://earlylearningcoalitionsarasota.org/event/special-board-meeting
LOCATION:Lakewood Ranch Business Alliance\, 5391 Lakewood Ranch Blvd N Suite 103\, Sarasota\, FL\, 34240\, United States
END:VEVENT
END:VCALENDAR