BEGIN:VCALENDAR
VERSION:2.0
PRODID:-//ELC - ECPv6.15.16//NONSGML v1.0//EN
CALSCALE:GREGORIAN
METHOD:PUBLISH
X-WR-CALNAME:ELC
X-ORIGINAL-URL:https://earlylearningcoalitionsarasota.org
X-WR-CALDESC:Events for ELC
REFRESH-INTERVAL;VALUE=DURATION:PT1H
X-Robots-Tag:noindex
X-PUBLISHED-TTL:PT1H
BEGIN:VTIMEZONE
TZID:America/New_York
BEGIN:DAYLIGHT
TZOFFSETFROM:-0500
TZOFFSETTO:-0400
TZNAME:EDT
DTSTART:20240310T070000
END:DAYLIGHT
BEGIN:STANDARD
TZOFFSETFROM:-0400
TZOFFSETTO:-0500
TZNAME:EST
DTSTART:20241103T060000
END:STANDARD
BEGIN:DAYLIGHT
TZOFFSETFROM:-0500
TZOFFSETTO:-0400
TZNAME:EDT
DTSTART:20250309T070000
END:DAYLIGHT
BEGIN:STANDARD
TZOFFSETFROM:-0400
TZOFFSETTO:-0500
TZNAME:EST
DTSTART:20251102T060000
END:STANDARD
BEGIN:DAYLIGHT
TZOFFSETFROM:-0500
TZOFFSETTO:-0400
TZNAME:EDT
DTSTART:20260308T070000
END:DAYLIGHT
BEGIN:STANDARD
TZOFFSETFROM:-0400
TZOFFSETTO:-0500
TZNAME:EST
DTSTART:20261101T060000
END:STANDARD
BEGIN:DAYLIGHT
TZOFFSETFROM:-0500
TZOFFSETTO:-0400
TZNAME:EDT
DTSTART:20270314T070000
END:DAYLIGHT
BEGIN:STANDARD
TZOFFSETFROM:-0400
TZOFFSETTO:-0500
TZNAME:EST
DTSTART:20271107T060000
END:STANDARD
END:VTIMEZONE
BEGIN:VEVENT
DTSTART;TZID=America/New_York:20260413T093000
DTEND;TZID=America/New_York:20260413T093000
DTSTAMP:20260423T173427
CREATED:20260409T130212Z
LAST-MODIFIED:20260409T130217Z
UID:11448-1776072600-1776072600@earlylearningcoalitionsarasota.org
SUMMARY:Executive Committee Special Meeting
DESCRIPTION:All meetings of the Early Learning Coalition of Sarasota County Executive Committee are held at 9:30 a.m.\, until the conclusion of business\, virtually\, unless otherwise publicly noticed.\n\nFor the meeting agenda or call-in information\, please contact kscott@elcsarasota.org.
URL:https://earlylearningcoalitionsarasota.org/event/executive-committee-special-meeting-2
END:VEVENT
BEGIN:VEVENT
DTSTART;TZID=America/New_York:20260413T093000
DTEND;TZID=America/New_York:20260413T093000
DTSTAMP:20260423T173427
CREATED:20260409T125936Z
LAST-MODIFIED:20260409T125936Z
UID:11446-1776072600-1776072600@earlylearningcoalitionsarasota.org
SUMMARY:Executive Committee Special Meeting
DESCRIPTION:All meetings of the Early Learning Coalition of Sarasota County Executive Committee are held at 9:30 am\, until the conclusion of business\, virtually\, unless otherwise publicly noticed.\n\nFor the meeting agenda or call-in information\, please contact kscott@elcsarasota.org.
URL:https://earlylearningcoalitionsarasota.org/event/executive-committee-special-meeting
END:VEVENT
BEGIN:VEVENT
DTSTART;TZID=America/New_York:20260408T150000
DTEND;TZID=America/New_York:20260408T150000
DTSTAMP:20260423T173427
CREATED:20260303T190903Z
LAST-MODIFIED:20260303T190903Z
UID:11433-1775660400-1775660400@earlylearningcoalitionsarasota.org
SUMMARY:Communications Committee Meeting
DESCRIPTION:All meetings of the Early Learning Coalition of Sarasota County Communications Committee are held at 3:00 pm\, until the conclusion of business\, virtually\, unless otherwise publicly noticed.\n\nFor the meeting agenda or call-in information\, please contact kscott@elcsarasota.org.
URL:https://earlylearningcoalitionsarasota.org/event/communications-committee-meeting-25
END:VEVENT
BEGIN:VEVENT
DTSTART;TZID=America/New_York:20260310T150000
DTEND;TZID=America/New_York:20260310T150000
DTSTAMP:20260423T173427
CREATED:20260122T170325Z
LAST-MODIFIED:20260122T170325Z
UID:11393-1773154800-1773154800@earlylearningcoalitionsarasota.org
SUMMARY:Board of Directors Meeting
DESCRIPTION:All meetings of the Early Learning Coalition of Sarasota County Board of Directors are held at 3:00 pm\, until the conclusion of business\, at 6003 Honore Ave\, Suite 106\, Sarasota\, FL 34238\, unless otherwise publicly noticed.\n\nFor the meeting agenda or call-in information\, please contact kscott@elcsarasota.org.
URL:https://earlylearningcoalitionsarasota.org/event/board-of-directors-meeting-16
LOCATION:6003 Honore Ave\, Suite 106\, 6003 Honore Ave\, Suite 106\, Sarasota\, 34238\, United States
END:VEVENT
BEGIN:VEVENT
DTSTART;TZID=America/New_York:20260303T083000
DTEND;TZID=America/New_York:20260303T083000
DTSTAMP:20260423T173427
CREATED:20260122T171145Z
LAST-MODIFIED:20260122T171145Z
UID:11398-1772526600-1772526600@earlylearningcoalitionsarasota.org
SUMMARY:Finance Committee Meeting
DESCRIPTION:All meetings of the Early Learning Coalition of Sarasota County Finance Committee are held at 8:30 am\, until the conclusion of business\, virtually\, unless otherwise publicly noticed.\n\nFor the meeting agenda or call-in information\, please contact kscott@elcsarasota.org.
URL:https://earlylearningcoalitionsarasota.org/event/finance-committee-meeting-2
END:VEVENT
BEGIN:VEVENT
DTSTART;TZID=America/New_York:20260225T150000
DTEND;TZID=America/New_York:20260225T150000
DTSTAMP:20260423T173427
CREATED:20260209T154027Z
LAST-MODIFIED:20260209T154027Z
UID:11421-1772031600-1772031600@earlylearningcoalitionsarasota.org
SUMMARY:Communications Committee Meeting
DESCRIPTION:All meetings of the Early Learning Coalition of Sarasota County Communications Committee are held at 3:00 pm\, until the conclusion of business\, virtually\, unless otherwise publicly noticed.\n\nFor the meeting agenda or call-in information\, please contact kscott@elcsarasota.org.
URL:https://earlylearningcoalitionsarasota.org/event/communications-committee-meeting-24
END:VEVENT
BEGIN:VEVENT
DTSTART;TZID=America/New_York:20260204T083000
DTEND;TZID=America/New_York:20260204T083000
DTSTAMP:20260423T173427
CREATED:20260202T142907Z
LAST-MODIFIED:20260202T142907Z
UID:11412-1770193800-1770193800@earlylearningcoalitionsarasota.org
SUMMARY:Finance Committee Special Meeting
DESCRIPTION:All meetings of the Early Learning Coalition of Sarasota County Finance Committee are held at 8:30 am\, until the conclusion of business\, virtually\, unless otherwise publicly noticed.\n\nFor the meeting agenda or call-in information\, please contact kscott@elcsarasota.org.
URL:https://earlylearningcoalitionsarasota.org/event/finance-committee-special-meeting
END:VEVENT
BEGIN:VEVENT
DTSTART;TZID=America/New_York:20260121T180000
DTEND;TZID=America/New_York:20260121T193000
DTSTAMP:20260423T173427
CREATED:20251210T130546Z
LAST-MODIFIED:20251210T130546Z
UID:11341-1769018400-1769023800@earlylearningcoalitionsarasota.org
SUMMARY:Board of Directors Meeting
DESCRIPTION:
URL:https://earlylearningcoalitionsarasota.org/event/board-of-directors-meeting-8
LOCATION:6003 Honore Ave\, Suite 106\, 6003 Honore Ave\, Suite 106\, Sarasota\, 34238\, United States
END:VEVENT
BEGIN:VEVENT
DTSTART;TZID=America/New_York:20260120T080000
DTEND;TZID=America/New_York:20260120T093000
DTSTAMP:20260423T173427
CREATED:20251210T130949Z
LAST-MODIFIED:20251231T135243Z
UID:11345-1768896000-1768901400@earlylearningcoalitionsarasota.org
SUMMARY:Finance Committee Meeting
DESCRIPTION:Online Zoom meeting. Please contact information@elcsarasota.org for the meeting link.
URL:https://earlylearningcoalitionsarasota.org/event/finance-committee-meeting
END:VEVENT
BEGIN:VEVENT
DTSTART;TZID=America/New_York:20251201T180000
DTEND;TZID=America/New_York:20251201T190000
DTSTAMP:20260423T173427
CREATED:20251125T155736Z
LAST-MODIFIED:20251125T155754Z
UID:11333-1764612000-1764615600@earlylearningcoalitionsarasota.org
SUMMARY:Search Committee After-Action Review
DESCRIPTION:Please call 941-954-4830 for meeting details.
URL:https://earlylearningcoalitionsarasota.org/event/search-committee-after-action-review
END:VEVENT
BEGIN:VEVENT
DTSTART;TZID=America/New_York:20251119T180000
DTEND;TZID=America/New_York:20251119T190000
DTSTAMP:20260423T173427
CREATED:20250623T184156Z
LAST-MODIFIED:20250623T184156Z
UID:11207-1763575200-1763578800@earlylearningcoalitionsarasota.org
SUMMARY:Board of Directors Meeting
DESCRIPTION:
URL:https://earlylearningcoalitionsarasota.org/event/board-of-directors-meeting-15
LOCATION:6003 Honore Ave\, Suite 106\, 6003 Honore Ave\, Suite 106\, Sarasota\, 34238\, United States
END:VEVENT
BEGIN:VEVENT
DTSTART;TZID=America/New_York:20251118T080000
DTEND;TZID=America/New_York:20251118T100000
DTSTAMP:20260423T173427
CREATED:20250624T122742Z
LAST-MODIFIED:20251114T135651Z
UID:11223-1763452800-1763460000@earlylearningcoalitionsarasota.org
SUMMARY:Budget/Finance and Governance Committee Meeting
DESCRIPTION:Online Zoom meeting\, subject to change.
URL:https://earlylearningcoalitionsarasota.org/event/budget-finance-and-governance-committee-meeting-17
END:VEVENT
BEGIN:VEVENT
DTSTART;TZID=America/New_York:20251112T150000
DTEND;TZID=America/New_York:20251112T160000
DTSTAMP:20260423T173427
CREATED:20250623T190032Z
LAST-MODIFIED:20250623T190032Z
UID:11215-1762959600-1762963200@earlylearningcoalitionsarasota.org
SUMMARY:Communications Committee Meeting
DESCRIPTION:Online Zoom meeting\, subject to change.
URL:https://earlylearningcoalitionsarasota.org/event/communications-committee-meeting-23
END:VEVENT
BEGIN:VEVENT
DTSTART;TZID=America/New_York:20251015T180000
DTEND;TZID=America/New_York:20251015T190000
DTSTAMP:20260423T173427
CREATED:20250623T184116Z
LAST-MODIFIED:20250623T184116Z
UID:11205-1760551200-1760554800@earlylearningcoalitionsarasota.org
SUMMARY:Board of Directors Meeting
DESCRIPTION:
URL:https://earlylearningcoalitionsarasota.org/event/board-of-directors-meeting-14
LOCATION:6003 Honore Ave\, Suite 106\, 6003 Honore Ave\, Suite 106\, Sarasota\, 34238\, United States
END:VEVENT
BEGIN:VEVENT
DTSTART;TZID=America/New_York:20251015T123000
DTEND;TZID=America/New_York:20251015T133000
DTSTAMP:20260423T173427
CREATED:20251001T124429Z
LAST-MODIFIED:20251001T124604Z
UID:11302-1760531400-1760535000@earlylearningcoalitionsarasota.org
SUMMARY:Directors Connection: Zoom
DESCRIPTION:Online Zoom Meeting: https://us06web.zoom.us/j/96625795873 \n 
URL:https://earlylearningcoalitionsarasota.org/event/directors-connection-zoom
END:VEVENT
BEGIN:VEVENT
DTSTART;TZID=America/New_York:20251014T083000
DTEND;TZID=America/New_York:20251014T100000
DTSTAMP:20260423T173427
CREATED:20250624T122651Z
LAST-MODIFIED:20251013T121431Z
UID:11221-1760430600-1760436000@earlylearningcoalitionsarasota.org
SUMMARY:CANCELLED: Budget/Finance and Governance Committee Meeting
DESCRIPTION:The Budget/Finance and Governance Committee Meeting has been cancelled for this month.
URL:https://earlylearningcoalitionsarasota.org/event/budget-finance-and-governance-committee-meeting-16
END:VEVENT
BEGIN:VEVENT
DTSTART;TZID=America/New_York:20251008T150000
DTEND;TZID=America/New_York:20251008T160000
DTSTAMP:20260423T173427
CREATED:20250623T185942Z
LAST-MODIFIED:20250623T185942Z
UID:11213-1759935600-1759939200@earlylearningcoalitionsarasota.org
SUMMARY:Communications Committee Meeting
DESCRIPTION:Online Zoom meeting\, subject to change.
URL:https://earlylearningcoalitionsarasota.org/event/communications-committee-meeting-22
END:VEVENT
BEGIN:VEVENT
DTSTART;TZID=America/New_York:20250917T180000
DTEND;TZID=America/New_York:20250917T190000
DTSTAMP:20260423T173427
CREATED:20250623T183937Z
LAST-MODIFIED:20250623T183937Z
UID:11203-1758132000-1758135600@earlylearningcoalitionsarasota.org
SUMMARY:Board of Directors Meeting
DESCRIPTION:
URL:https://earlylearningcoalitionsarasota.org/event/board-of-directors-meeting-13
LOCATION:6003 Honore Ave\, Suite 106\, 6003 Honore Ave\, Suite 106\, Sarasota\, 34238\, United States
END:VEVENT
BEGIN:VEVENT
DTSTART;TZID=America/New_York:20250917T123000
DTEND;TZID=America/New_York:20250917T133000
DTSTAMP:20260423T173427
CREATED:20250624T123756Z
LAST-MODIFIED:20250624T123756Z
UID:11227-1758112200-1758115800@earlylearningcoalitionsarasota.org
SUMMARY:In-Person Directors Connection
DESCRIPTION:
URL:https://earlylearningcoalitionsarasota.org/event/in-person-directors-connection
LOCATION:6003 Honore Ave\, Suite 106\, 6003 Honore Ave\, Suite 106\, Sarasota\, 34238\, United States
END:VEVENT
BEGIN:VEVENT
DTSTART;TZID=America/New_York:20250916T083000
DTEND;TZID=America/New_York:20250916T100000
DTSTAMP:20260423T173427
CREATED:20250624T122613Z
LAST-MODIFIED:20250624T122613Z
UID:11219-1758011400-1758016800@earlylearningcoalitionsarasota.org
SUMMARY:Budget/Finance and Governance Committee Meeting
DESCRIPTION:Online Zoom meeting\, subject to change.
URL:https://earlylearningcoalitionsarasota.org/event/budget-finance-and-governance-committee-meeting-15
END:VEVENT
BEGIN:VEVENT
DTSTART;TZID=America/New_York:20250910T150000
DTEND;TZID=America/New_York:20250910T160000
DTSTAMP:20260423T173427
CREATED:20250623T185821Z
LAST-MODIFIED:20250623T185821Z
UID:11211-1757516400-1757520000@earlylearningcoalitionsarasota.org
SUMMARY:Communications Committee Meeting
DESCRIPTION:Online Zoom meeting\, subject to change.
URL:https://earlylearningcoalitionsarasota.org/event/communications-committee-meeting-21
END:VEVENT
BEGIN:VEVENT
DTSTART;TZID=America/New_York:20250820T180000
DTEND;TZID=America/New_York:20250820T190000
DTSTAMP:20260423T173427
CREATED:20250623T183905Z
LAST-MODIFIED:20250623T183905Z
UID:11201-1755712800-1755716400@earlylearningcoalitionsarasota.org
SUMMARY:Board of Directors Meeting
DESCRIPTION:
URL:https://earlylearningcoalitionsarasota.org/event/board-of-directors-meeting-12
LOCATION:6003 Honore Ave\, Suite 106\, 6003 Honore Ave\, Suite 106\, Sarasota\, 34238\, United States
END:VEVENT
BEGIN:VEVENT
DTSTART;TZID=America/New_York:20250820T123000
DTEND;TZID=America/New_York:20250820T133000
DTSTAMP:20260423T173427
CREATED:20250624T123655Z
LAST-MODIFIED:20250624T123655Z
UID:11225-1755693000-1755696600@earlylearningcoalitionsarasota.org
SUMMARY:Directors Connection
DESCRIPTION:Zoom link will be posted closer to the date
URL:https://earlylearningcoalitionsarasota.org/event/directors-connection-13
END:VEVENT
BEGIN:VEVENT
DTSTART;TZID=America/New_York:20250819T083000
DTEND;TZID=America/New_York:20250819T100000
DTSTAMP:20260423T173427
CREATED:20250624T122536Z
LAST-MODIFIED:20250624T122536Z
UID:11217-1755592200-1755597600@earlylearningcoalitionsarasota.org
SUMMARY:Budget/Finance and Governance Committee Meeting
DESCRIPTION:Online Zoom meeting\, subject to change.
URL:https://earlylearningcoalitionsarasota.org/event/budget-finance-and-governance-committee-meeting-14
END:VEVENT
BEGIN:VEVENT
DTSTART;TZID=America/New_York:20250818T173000
DTEND;TZID=America/New_York:20250818T193000
DTSTAMP:20260423T173427
CREATED:20250811T112049Z
LAST-MODIFIED:20250811T112049Z
UID:11260-1755538200-1755545400@earlylearningcoalitionsarasota.org
SUMMARY:Special Board Meeting
DESCRIPTION:
URL:https://earlylearningcoalitionsarasota.org/event/special-board-meeting
LOCATION:Lakewood Ranch Business Alliance\, 5391 Lakewood Ranch Blvd N Suite 103\, Sarasota\, FL\, 34240\, United States
END:VEVENT
BEGIN:VEVENT
DTSTART;TZID=America/New_York:20250813T150000
DTEND;TZID=America/New_York:20250813T160000
DTSTAMP:20260423T173427
CREATED:20250623T185741Z
LAST-MODIFIED:20250623T185741Z
UID:11209-1755097200-1755100800@earlylearningcoalitionsarasota.org
SUMMARY:Communications Committee Meeting
DESCRIPTION:Online Zoom meeting\, subject to change.
URL:https://earlylearningcoalitionsarasota.org/event/communications-committee-meeting-20
END:VEVENT
BEGIN:VEVENT
DTSTART;TZID=America/New_York:20250724T140000
DTEND;TZID=America/New_York:20250724T180000
DTSTAMP:20260423T173427
CREATED:20250716T151808Z
LAST-MODIFIED:20250716T151808Z
UID:11244-1753365600-1753380000@earlylearningcoalitionsarasota.org
SUMMARY:Search Committee Meeting
DESCRIPTION:
URL:https://earlylearningcoalitionsarasota.org/event/search-committee-meeting-2
LOCATION:Lakewood Ranch Business Alliance\, 5391 Lakewood Ranch Blvd N Suite 103\, Sarasota\, FL\, 34240\, United States
END:VEVENT
BEGIN:VEVENT
DTSTART;TZID=America/New_York:20250722T120000
DTEND;TZID=America/New_York:20250722T180000
DTSTAMP:20260423T173427
CREATED:20250716T151646Z
LAST-MODIFIED:20250716T151646Z
UID:11241-1753185600-1753207200@earlylearningcoalitionsarasota.org
SUMMARY:Search Committee Meeting
DESCRIPTION:
URL:https://earlylearningcoalitionsarasota.org/event/search-committee-meeting
LOCATION:Charles and Margery Barancik Foundation\, 1945 Fruitville Rd\, Sarasota\, FL\, 34236\, United States
END:VEVENT
BEGIN:VEVENT
DTSTART;TZID=America/New_York:20250715T083000
DTEND;TZID=America/New_York:20250715T100000
DTSTAMP:20260423T173427
CREATED:20250623T130648Z
LAST-MODIFIED:20250623T130648Z
UID:11193-1752568200-1752573600@earlylearningcoalitionsarasota.org
SUMMARY:Budget/Finance and Governance Committee Meeting
DESCRIPTION:Online Zoom meeting\, subject to change.
URL:https://earlylearningcoalitionsarasota.org/event/budget-finance-and-governance-committee-meeting-13
END:VEVENT
BEGIN:VEVENT
DTSTART;TZID=America/New_York:20250709T150000
DTEND;TZID=America/New_York:20250709T160000
DTSTAMP:20260423T173427
CREATED:20250623T131559Z
LAST-MODIFIED:20250623T131559Z
UID:11196-1752073200-1752076800@earlylearningcoalitionsarasota.org
SUMMARY:Communications Committee Meeting
DESCRIPTION:Online Zoom meeting\, subject to change.
URL:https://earlylearningcoalitionsarasota.org/event/communications-committee-meeting-19
END:VEVENT
END:VCALENDAR