BEGIN:VCALENDAR
VERSION:2.0
PRODID:-//ELC - ECPv6.15.16//NONSGML v1.0//EN
CALSCALE:GREGORIAN
METHOD:PUBLISH
X-WR-CALNAME:ELC
X-ORIGINAL-URL:https://earlylearningcoalitionsarasota.org
X-WR-CALDESC:Events for ELC
REFRESH-INTERVAL;VALUE=DURATION:PT1H
X-Robots-Tag:noindex
X-PUBLISHED-TTL:PT1H
BEGIN:VTIMEZONE
TZID:America/New_York
BEGIN:DAYLIGHT
TZOFFSETFROM:-0500
TZOFFSETTO:-0400
TZNAME:EDT
DTSTART:20210314T070000
END:DAYLIGHT
BEGIN:STANDARD
TZOFFSETFROM:-0400
TZOFFSETTO:-0500
TZNAME:EST
DTSTART:20211107T060000
END:STANDARD
BEGIN:DAYLIGHT
TZOFFSETFROM:-0500
TZOFFSETTO:-0400
TZNAME:EDT
DTSTART:20220313T070000
END:DAYLIGHT
BEGIN:STANDARD
TZOFFSETFROM:-0400
TZOFFSETTO:-0500
TZNAME:EST
DTSTART:20221106T060000
END:STANDARD
BEGIN:DAYLIGHT
TZOFFSETFROM:-0500
TZOFFSETTO:-0400
TZNAME:EDT
DTSTART:20230312T070000
END:DAYLIGHT
BEGIN:STANDARD
TZOFFSETFROM:-0400
TZOFFSETTO:-0500
TZNAME:EST
DTSTART:20231105T060000
END:STANDARD
BEGIN:DAYLIGHT
TZOFFSETFROM:-0500
TZOFFSETTO:-0400
TZNAME:EDT
DTSTART:20240310T070000
END:DAYLIGHT
BEGIN:STANDARD
TZOFFSETFROM:-0400
TZOFFSETTO:-0500
TZNAME:EST
DTSTART:20241103T060000
END:STANDARD
END:VTIMEZONE
BEGIN:VEVENT
DTSTART;TZID=America/New_York:20231220T123000
DTEND;TZID=America/New_York:20231220T133000
DTSTAMP:20260425T124305
CREATED:20230713T125400Z
LAST-MODIFIED:20230713T130426Z
UID:10361-1703075400-1703079000@earlylearningcoalitionsarasota.org
SUMMARY:Directors Connection
DESCRIPTION:Join Zoom Meeting- here is the link \nhttps://us06web.zoom.us/j/96625795873 \nMeeting ID: 966 2579 5873 \nDial by your location \n+1 346 248 7799 US (Houston) \n+1 669 444 9171 US \n  Please download and import the following iCalendar (.ics) files to your calendar system. \nMonthly: https://us06web.zoom.us/meeting/tJIrdeyvpz4iHde2JpsoAF0ENc99H0zbKz3B/ics?icsToken=98tyKuCuqDkvHd2QuB6ERowABIjoZ-3xmCVHgqdYzjX1EC9yRFPTGOEba5ovCtr7 \nJoin Zoom Meeting- here is the link \nhttps://us06web.zoom.us/j/96625795873
URL:https://earlylearningcoalitionsarasota.org/event/directors-connection-6
END:VEVENT
BEGIN:VEVENT
DTSTART;TZID=America/New_York:20231219T083000
DTEND;TZID=America/New_York:20231219T100000
DTSTAMP:20260425T124305
CREATED:20230713T132948Z
LAST-MODIFIED:20230713T132948Z
UID:10402-1702974600-1702980000@earlylearningcoalitionsarasota.org
SUMMARY:Budget/Finance and Governance Committee Meeting
DESCRIPTION:Online Zoom meeting\, subject to change.
URL:https://earlylearningcoalitionsarasota.org/event/budget-finance-and-governance-committee-meeting-6
END:VEVENT
BEGIN:VEVENT
DTSTART;TZID=America/New_York:20231213T150000
DTEND;TZID=America/New_York:20231213T160000
DTSTAMP:20260425T124305
CREATED:20230713T134741Z
LAST-MODIFIED:20230713T134741Z
UID:10432-1702479600-1702483200@earlylearningcoalitionsarasota.org
SUMMARY:Communications Committee Meeting
DESCRIPTION:Online Zoom meeting\, subject to change.
URL:https://earlylearningcoalitionsarasota.org/event/communications-committee-meeting-5
END:VEVENT
BEGIN:VEVENT
DTSTART;TZID=America/New_York:20231130T080000
DTEND;TZID=America/New_York:20231130T100000
DTSTAMP:20260425T124305
CREATED:20230913T151858Z
LAST-MODIFIED:20230913T151858Z
UID:10569-1701331200-1701338400@earlylearningcoalitionsarasota.org
SUMMARY:Business Breakfast
DESCRIPTION:Registration required \nFor more info: amcclendon@elcsarasota.org
URL:https://earlylearningcoalitionsarasota.org/event/business-breakfast
LOCATION:Suncoast Technical College\, Sarasota\, 4748 S Beneva Rd\, Sarasota\, FL\, 34233\, United States
END:VEVENT
BEGIN:VEVENT
DTSTART;TZID=America/New_York:20231129T150000
DTEND;TZID=America/New_York:20231129T160000
DTSTAMP:20260425T124305
CREATED:20231030T175845Z
LAST-MODIFIED:20231030T175845Z
UID:10630-1701270000-1701273600@earlylearningcoalitionsarasota.org
SUMMARY:Communications Committee Meeting
DESCRIPTION:Online Zoom\, subject to change
URL:https://earlylearningcoalitionsarasota.org/event/communications-committee-meeting-16
END:VEVENT
BEGIN:VEVENT
DTSTART;TZID=America/New_York:20231122T150000
DTEND;TZID=America/New_York:20231122T160000
DTSTAMP:20260425T124305
CREATED:20231030T163342Z
LAST-MODIFIED:20231030T163342Z
UID:10628-1700665200-1700668800@earlylearningcoalitionsarasota.org
SUMMARY:Communications Committee Meeting
DESCRIPTION:Online Zoom\, subject to change
URL:https://earlylearningcoalitionsarasota.org/event/communications-committee-meeting-15
END:VEVENT
BEGIN:VEVENT
DTSTART;TZID=America/New_York:20231115T180000
DTEND;TZID=America/New_York:20231115T190000
DTSTAMP:20260425T124305
CREATED:20230713T140047Z
LAST-MODIFIED:20230713T140047Z
UID:10459-1700071200-1700074800@earlylearningcoalitionsarasota.org
SUMMARY:Board of Directors Meeting
DESCRIPTION:In person meeting
URL:https://earlylearningcoalitionsarasota.org/event/board-of-directors-meeting-4
LOCATION:6003 Honore Ave\, Suite 106\, 6003 Honore Ave\, Suite 106\, Sarasota\, 34238\, United States
END:VEVENT
BEGIN:VEVENT
DTSTART;TZID=America/New_York:20231115T150000
DTEND;TZID=America/New_York:20231115T160000
DTSTAMP:20260425T124305
CREATED:20231030T163238Z
LAST-MODIFIED:20231030T163238Z
UID:10626-1700060400-1700064000@earlylearningcoalitionsarasota.org
SUMMARY:Communications Committee Meeting
DESCRIPTION:Online Zoom\, subject to change
URL:https://earlylearningcoalitionsarasota.org/event/communications-committee-meeting-14
END:VEVENT
BEGIN:VEVENT
DTSTART;TZID=America/New_York:20231115T123000
DTEND;TZID=America/New_York:20231115T133000
DTSTAMP:20260425T124305
CREATED:20230713T125253Z
LAST-MODIFIED:20230713T130526Z
UID:10358-1700051400-1700055000@earlylearningcoalitionsarasota.org
SUMMARY:Directors Connection
DESCRIPTION:Join Zoom Meeting- here is the link \nhttps://us06web.zoom.us/j/96625795873 \nMeeting ID: 966 2579 5873 \nDial by your location \n+1 346 248 7799 US (Houston) \n+1 669 444 9171 US \n  Please download and import the following iCalendar (.ics) files to your calendar system. \nMonthly: https://us06web.zoom.us/meeting/tJIrdeyvpz4iHde2JpsoAF0ENc99H0zbKz3B/ics?icsToken=98tyKuCuqDkvHd2QuB6ERowABIjoZ-3xmCVHgqdYzjX1EC9yRFPTGOEba5ovCtr7 \nJoin Zoom Meeting- here is the link \nhttps://us06web.zoom.us/j/96625795873
URL:https://earlylearningcoalitionsarasota.org/event/directors-connection-5
END:VEVENT
BEGIN:VEVENT
DTSTART;TZID=America/New_York:20231114T083000
DTEND;TZID=America/New_York:20231114T100000
DTSTAMP:20260425T124305
CREATED:20230713T132848Z
LAST-MODIFIED:20230713T132848Z
UID:10399-1699950600-1699956000@earlylearningcoalitionsarasota.org
SUMMARY:Budget/Finance and Governance Committee Meeting
DESCRIPTION:Online Zoom meeting\, subject to change.
URL:https://earlylearningcoalitionsarasota.org/event/budget-finance-and-governance-committee-meeting-5
END:VEVENT
BEGIN:VEVENT
DTSTART;TZID=America/New_York:20231108T150000
DTEND;TZID=America/New_York:20231108T160000
DTSTAMP:20260425T124305
CREATED:20230713T134634Z
LAST-MODIFIED:20230713T134634Z
UID:10429-1699455600-1699459200@earlylearningcoalitionsarasota.org
SUMMARY:Communications Committee Meeting
DESCRIPTION:Online Zoom meeting\, subject to change.
URL:https://earlylearningcoalitionsarasota.org/event/communications-committee-meeting-4
END:VEVENT
BEGIN:VEVENT
DTSTART;TZID=America/New_York:20231101T150000
DTEND;TZID=America/New_York:20231101T160000
DTSTAMP:20260425T124305
CREATED:20231030T163133Z
LAST-MODIFIED:20231030T163133Z
UID:10624-1698850800-1698854400@earlylearningcoalitionsarasota.org
SUMMARY:Communications Committee Meeting
DESCRIPTION:Online Zoom\, subject to change
URL:https://earlylearningcoalitionsarasota.org/event/communications-committee-meeting-13
END:VEVENT
BEGIN:VEVENT
DTSTART;TZID=America/New_York:20231025T150000
DTEND;TZID=America/New_York:20231025T160000
DTSTAMP:20260425T124305
CREATED:20231019T175052Z
LAST-MODIFIED:20231019T175052Z
UID:10607-1698246000-1698249600@earlylearningcoalitionsarasota.org
SUMMARY:Communications Committee Meeting
DESCRIPTION:Online Zoom meeting\, subject to change.
URL:https://earlylearningcoalitionsarasota.org/event/communications-committee-meeting-12
END:VEVENT
BEGIN:VEVENT
DTSTART;TZID=America/New_York:20231018T180000
DTEND;TZID=America/New_York:20231018T190000
DTSTAMP:20260425T124305
CREATED:20230713T135944Z
LAST-MODIFIED:20230713T135944Z
UID:10456-1697652000-1697655600@earlylearningcoalitionsarasota.org
SUMMARY:Board of Directors Meeting
DESCRIPTION:In person meeting
URL:https://earlylearningcoalitionsarasota.org/event/board-of-directors-meeting-3
LOCATION:6003 Honore Ave\, Suite 106\, 6003 Honore Ave\, Suite 106\, Sarasota\, 34238\, United States
END:VEVENT
BEGIN:VEVENT
DTSTART;TZID=America/New_York:20231018T123000
DTEND;TZID=America/New_York:20231018T133000
DTSTAMP:20260425T124305
CREATED:20230713T125147Z
LAST-MODIFIED:20230713T130735Z
UID:10355-1697632200-1697635800@earlylearningcoalitionsarasota.org
SUMMARY:Directors Connection
DESCRIPTION:Join Zoom Meeting- here is the link \nhttps://us06web.zoom.us/j/96625795873 \nMeeting ID: 966 2579 5873 \nDial by your location \n+1 346 248 7799 US (Houston) \n+1 669 444 9171 US \n  Please download and import the following iCalendar (.ics) files to your calendar system. \nMonthly: https://us06web.zoom.us/meeting/tJIrdeyvpz4iHde2JpsoAF0ENc99H0zbKz3B/ics?icsToken=98tyKuCuqDkvHd2QuB6ERowABIjoZ-3xmCVHgqdYzjX1EC9yRFPTGOEba5ovCtr7 \nJoin Zoom Meeting- here is the link \nhttps://us06web.zoom.us/j/96625795873
URL:https://earlylearningcoalitionsarasota.org/event/directors-connection-4
END:VEVENT
BEGIN:VEVENT
DTSTART;TZID=America/New_York:20231017T083000
DTEND;TZID=America/New_York:20231017T100000
DTSTAMP:20260425T124305
CREATED:20230713T132749Z
LAST-MODIFIED:20230713T132749Z
UID:10396-1697531400-1697536800@earlylearningcoalitionsarasota.org
SUMMARY:Budget/Finance and Governance Committee Meeting
DESCRIPTION:Online Zoom meeting\, subject to change.
URL:https://earlylearningcoalitionsarasota.org/event/budget-finance-and-governance-committee-meeting-4
END:VEVENT
BEGIN:VEVENT
DTSTART;TZID=America/New_York:20231011T150000
DTEND;TZID=America/New_York:20231011T160000
DTSTAMP:20260425T124305
CREATED:20230713T134527Z
LAST-MODIFIED:20230713T134527Z
UID:10426-1697036400-1697040000@earlylearningcoalitionsarasota.org
SUMMARY:Communications Committee Meeting
DESCRIPTION:Online Zoom meeting\, subject to change.
URL:https://earlylearningcoalitionsarasota.org/event/communications-committee-meeting-3
END:VEVENT
BEGIN:VEVENT
DTSTART;TZID=America/New_York:20230920T180000
DTEND;TZID=America/New_York:20230920T190000
DTSTAMP:20260425T124305
CREATED:20230713T135717Z
LAST-MODIFIED:20230713T135717Z
UID:10453-1695232800-1695236400@earlylearningcoalitionsarasota.org
SUMMARY:Board of Directors Meeting
DESCRIPTION:In person meeting
URL:https://earlylearningcoalitionsarasota.org/event/board-of-directors-meeting-2
LOCATION:6003 Honore Ave\, Suite 106\, 6003 Honore Ave\, Suite 106\, Sarasota\, 34238\, United States
END:VEVENT
BEGIN:VEVENT
DTSTART;TZID=America/New_York:20230920T123000
DTEND;TZID=America/New_York:20230920T133000
DTSTAMP:20260425T124305
CREATED:20230713T125005Z
LAST-MODIFIED:20230713T130817Z
UID:10352-1695213000-1695216600@earlylearningcoalitionsarasota.org
SUMMARY:Directors Connection
DESCRIPTION:This month’s meeting will be held in person at the ELC Honore office training space.
URL:https://earlylearningcoalitionsarasota.org/event/directors-connection-3
LOCATION:6003 Honore Ave\, Suite 106\, 6003 Honore Ave\, Suite 106\, Sarasota\, 34238\, United States
END:VEVENT
BEGIN:VEVENT
DTSTART;TZID=America/New_York:20230919T083000
DTEND;TZID=America/New_York:20230919T100000
DTSTAMP:20260425T124305
CREATED:20230713T132658Z
LAST-MODIFIED:20230713T132658Z
UID:10393-1695112200-1695117600@earlylearningcoalitionsarasota.org
SUMMARY:Budget/Finance and Governance Committee Meeting
DESCRIPTION:Online Zoom meeting\, subject to change.
URL:https://earlylearningcoalitionsarasota.org/event/budget-finance-and-governance-committee-meeting-3
END:VEVENT
BEGIN:VEVENT
DTSTART;TZID=America/New_York:20230918T090000
DTEND;TZID=America/New_York:20230918T110000
DTSTAMP:20260425T124305
CREATED:20230918T145536Z
LAST-MODIFIED:20230918T145536Z
UID:10588-1695027600-1695034800@earlylearningcoalitionsarasota.org
SUMMARY:Board Orientation for new members
DESCRIPTION:Online meeting
URL:https://earlylearningcoalitionsarasota.org/event/board-orientation-for-new-members
END:VEVENT
BEGIN:VEVENT
DTSTART;TZID=America/New_York:20230913T150000
DTEND;TZID=America/New_York:20230913T160000
DTSTAMP:20260425T124305
CREATED:20230713T134358Z
LAST-MODIFIED:20230713T134358Z
UID:10423-1694617200-1694620800@earlylearningcoalitionsarasota.org
SUMMARY:Communications Committee Meeting
DESCRIPTION:Online Zoom meeting\, subject to change.
URL:https://earlylearningcoalitionsarasota.org/event/communications-committee-meeting-2
END:VEVENT
BEGIN:VEVENT
DTSTART;TZID=America/New_York:20230816T180000
DTEND;TZID=America/New_York:20230816T190000
DTSTAMP:20260425T124305
CREATED:20211119T135132Z
LAST-MODIFIED:20230713T135608Z
UID:9951-1692208800-1692212400@earlylearningcoalitionsarasota.org
SUMMARY:Board of Directors Meeting
DESCRIPTION:In person meeting
URL:https://earlylearningcoalitionsarasota.org/event/board-of-directors-meeting
LOCATION:6003 Honore Ave\, Suite 106\, 6003 Honore Ave\, Suite 106\, Sarasota\, 34238\, United States
END:VEVENT
BEGIN:VEVENT
DTSTART;TZID=America/New_York:20230816T123000
DTEND;TZID=America/New_York:20230816T133000
DTSTAMP:20260425T124305
CREATED:20230713T124231Z
LAST-MODIFIED:20230713T130925Z
UID:10349-1692189000-1692192600@earlylearningcoalitionsarasota.org
SUMMARY:Directors Connection
DESCRIPTION:Join Zoom Meeting- here is the link \nhttps://us06web.zoom.us/j/96625795873 \nMeeting ID: 966 2579 5873 \nDial by your location \n+1 346 248 7799 US (Houston) \n+1 669 444 9171 US \nPlease download and import the following iCalendar (.ics) files to your calendar system. \nMonthly: https://us06web.zoom.us/meeting/tJIrdeyvpz4iHde2JpsoAF0ENc99H0zbKz3B/ics?icsToken=98tyKuCuqDkvHd2QuB6ERowABIjoZ-3xmCVHgqdYzjX1EC9yRFPTGOEba5ovCtr7 \nJoin Zoom Meeting- here is the link \nhttps://us06web.zoom.us/j/96625795873
URL:https://earlylearningcoalitionsarasota.org/event/directors-connection-2
END:VEVENT
BEGIN:VEVENT
DTSTART;TZID=America/New_York:20230815T083000
DTEND;TZID=America/New_York:20230815T100000
DTSTAMP:20260425T124305
CREATED:20230713T132546Z
LAST-MODIFIED:20230713T132546Z
UID:10390-1692088200-1692093600@earlylearningcoalitionsarasota.org
SUMMARY:Budget/Finance and Governance Committee Meeting
DESCRIPTION:Online Zoom meeting\, subject to change.
URL:https://earlylearningcoalitionsarasota.org/event/budget-finance-and-governance-committee-meeting-2
END:VEVENT
BEGIN:VEVENT
DTSTART;TZID=America/New_York:20230809T150000
DTEND;TZID=America/New_York:20230809T160000
DTSTAMP:20260425T124305
CREATED:20211119T135001Z
LAST-MODIFIED:20230713T134247Z
UID:9949-1691593200-1691596800@earlylearningcoalitionsarasota.org
SUMMARY:Communications Committee Meeting
DESCRIPTION:Online Zoom meeting\, subject to change. \n 
URL:https://earlylearningcoalitionsarasota.org/event/communications-committee-meeting
END:VEVENT
BEGIN:VEVENT
DTSTART;TZID=America/New_York:20230719T123000
DTEND;TZID=America/New_York:20230719T133000
DTSTAMP:20260425T124305
CREATED:20230713T123800Z
LAST-MODIFIED:20230713T131009Z
UID:10345-1689769800-1689773400@earlylearningcoalitionsarasota.org
SUMMARY:Directors Connection
DESCRIPTION:Join Zoom Meeting- here is the link \nhttps://us06web.zoom.us/j/96625795873 \nMeeting ID: 966 2579 5873 \n Dial by your location \n+1 346 248 7799 US (Houston) \n+1 669 444 9171 US \n  Please download and import the following iCalendar (.ics) files to your calendar system. \nMonthly: https://us06web.zoom.us/meeting/tJIrdeyvpz4iHde2JpsoAF0ENc99H0zbKz3B/ics?icsToken=98tyKuCuqDkvHd2QuB6ERowABIjoZ-3xmCVHgqdYzjX1EC9yRFPTGOEba5ovCtr7 \nJoin Zoom Meeting- here is the link \nhttps://us06web.zoom.us/j/96625795873
URL:https://earlylearningcoalitionsarasota.org/event/directors-connection
END:VEVENT
BEGIN:VEVENT
DTSTART;TZID=America/New_York:20230718T083000
DTEND;TZID=America/New_York:20230718T100000
DTSTAMP:20260425T124305
CREATED:20211119T134732Z
LAST-MODIFIED:20230713T132259Z
UID:9947-1689669000-1689674400@earlylearningcoalitionsarasota.org
SUMMARY:Budget/Finance and Governance Committee Meeting
DESCRIPTION:Online Zoom meeting\, subject to change.
URL:https://earlylearningcoalitionsarasota.org/event/budget-finance-and-governance-committee-meeting
END:VEVENT
BEGIN:VEVENT
DTSTART;TZID=America/New_York:20230215T180000
DTEND;TZID=America/New_York:20230215T190000
DTSTAMP:20260425T124305
CREATED:20230713T140452Z
LAST-MODIFIED:20230713T140452Z
UID:10468-1676484000-1676487600@earlylearningcoalitionsarasota.org
SUMMARY:Board of Directors Meeting
DESCRIPTION:In person meeting
URL:https://earlylearningcoalitionsarasota.org/event/board-of-directors-meeting-7
LOCATION:6003 Honore Ave\, Suite 106\, 6003 Honore Ave\, Suite 106\, Sarasota\, 34238\, United States
END:VEVENT
BEGIN:VEVENT
DTSTART;TZID=America/New_York:20220713T120000
DTEND;TZID=America/New_York:20220713T140000
DTSTAMP:20260425T124305
CREATED:20220620T144018Z
LAST-MODIFIED:20220711T185629Z
UID:10085-1657713600-1657720800@earlylearningcoalitionsarasota.org
SUMMARY:Goodbye Celebration for Exiting Chair
DESCRIPTION:
URL:https://earlylearningcoalitionsarasota.org/event/goodbye-celebration-for-exiting-chair
LOCATION:Knick’s Tavern and Grill\, 1818 S. Osprey Ave\, Sarasota\, FL\, United States
END:VEVENT
END:VCALENDAR