BEGIN:VCALENDAR
VERSION:2.0
PRODID:-//ELC - ECPv6.15.16//NONSGML v1.0//EN
CALSCALE:GREGORIAN
METHOD:PUBLISH
X-WR-CALNAME:ELC
X-ORIGINAL-URL:https://earlylearningcoalitionsarasota.org
X-WR-CALDESC:Events for ELC
REFRESH-INTERVAL;VALUE=DURATION:PT1H
X-Robots-Tag:noindex
X-PUBLISHED-TTL:PT1H
BEGIN:VTIMEZONE
TZID:America/New_York
BEGIN:DAYLIGHT
TZOFFSETFROM:-0500
TZOFFSETTO:-0400
TZNAME:EDT
DTSTART:20230312T070000
END:DAYLIGHT
BEGIN:STANDARD
TZOFFSETFROM:-0400
TZOFFSETTO:-0500
TZNAME:EST
DTSTART:20231105T060000
END:STANDARD
BEGIN:DAYLIGHT
TZOFFSETFROM:-0500
TZOFFSETTO:-0400
TZNAME:EDT
DTSTART:20240310T070000
END:DAYLIGHT
BEGIN:STANDARD
TZOFFSETFROM:-0400
TZOFFSETTO:-0500
TZNAME:EST
DTSTART:20241103T060000
END:STANDARD
BEGIN:DAYLIGHT
TZOFFSETFROM:-0500
TZOFFSETTO:-0400
TZNAME:EDT
DTSTART:20250309T070000
END:DAYLIGHT
BEGIN:STANDARD
TZOFFSETFROM:-0400
TZOFFSETTO:-0500
TZNAME:EST
DTSTART:20251102T060000
END:STANDARD
BEGIN:DAYLIGHT
TZOFFSETFROM:-0500
TZOFFSETTO:-0400
TZNAME:EDT
DTSTART:20260308T070000
END:DAYLIGHT
BEGIN:STANDARD
TZOFFSETFROM:-0400
TZOFFSETTO:-0500
TZNAME:EST
DTSTART:20261101T060000
END:STANDARD
END:VTIMEZONE
BEGIN:VEVENT
DTSTART;TZID=America/New_York:20250618T123000
DTEND;TZID=America/New_York:20250618T133000
DTSTAMP:20260424T060244
CREATED:20230713T131448Z
LAST-MODIFIED:20250530T140839Z
UID:10387-1750249800-1750253400@earlylearningcoalitionsarasota.org
SUMMARY:Directors Connection
DESCRIPTION:Meeting format to be determined.
URL:https://earlylearningcoalitionsarasota.org/event/directors-connection-12
END:VEVENT
BEGIN:VEVENT
DTSTART;TZID=America/New_York:20250617T083000
DTEND;TZID=America/New_York:20250617T100000
DTSTAMP:20260424T060244
CREATED:20230713T133555Z
LAST-MODIFIED:20250530T141101Z
UID:10417-1750149000-1750154400@earlylearningcoalitionsarasota.org
SUMMARY:Budget/Finance and Governance Committee Meeting
DESCRIPTION:Online Zoom meeting\, subject to change.
URL:https://earlylearningcoalitionsarasota.org/event/budget-finance-and-governance-committee-meeting-11
END:VEVENT
BEGIN:VEVENT
DTSTART;TZID=America/New_York:20250611T190000
DTEND;TZID=America/New_York:20250611T200000
DTSTAMP:20260424T060244
CREATED:20250611T181003Z
LAST-MODIFIED:20250611T181003Z
UID:11187-1749668400-1749672000@earlylearningcoalitionsarasota.org
SUMMARY:2025 Apprenticeship/FCCPC Graduation
DESCRIPTION:
URL:https://earlylearningcoalitionsarasota.org/event/2025-apprenticeship-fccpc-graduation
LOCATION:St. Wilfred Preschool\, 3773 Wilkinson Rd\, Sarasota\, FL\, 34233\, United States
END:VEVENT
BEGIN:VEVENT
DTSTART;TZID=America/New_York:20250611T150000
DTEND;TZID=America/New_York:20250611T160000
DTSTAMP:20260424T060244
CREATED:20230713T135258Z
LAST-MODIFIED:20250530T140744Z
UID:10447-1749654000-1749657600@earlylearningcoalitionsarasota.org
SUMMARY:Communications Committee Meeting
DESCRIPTION:Online Zoom meeting\, subject to change.
URL:https://earlylearningcoalitionsarasota.org/event/communications-committee-meeting-10
END:VEVENT
BEGIN:VEVENT
DTSTART;TZID=America/New_York:20250527T110000
DTEND;TZID=America/New_York:20250527T130000
DTSTAMP:20260424T060244
CREATED:20250521T123636Z
LAST-MODIFIED:20250521T123636Z
UID:11168-1748343600-1748350800@earlylearningcoalitionsarasota.org
SUMMARY:ELC Board - CEO search committee meeting
DESCRIPTION:Multiple board members will be present.
URL:https://earlylearningcoalitionsarasota.org/event/elc-board-ceo-search-committee-meeting
LOCATION:5391 Lakewood Ranch Blvd Suite 103\, 5391 Lakewood Ranch Blvd Suite 103\, Sarasota\, FL\, 34240\, United States
END:VEVENT
BEGIN:VEVENT
DTSTART;TZID=America/New_York:20250520T140000
DTEND;TZID=America/New_York:20250520T150000
DTSTAMP:20260424T060244
CREATED:20250514T203601Z
LAST-MODIFIED:20250514T203601Z
UID:11127-1747749600-1747753200@earlylearningcoalitionsarasota.org
SUMMARY:ZOOM ELC Communications Committee Meeting
DESCRIPTION:Online meeting via Zoom
URL:https://earlylearningcoalitionsarasota.org/event/zoom-elc-communications-committee-meeting
END:VEVENT
BEGIN:VEVENT
DTSTART;TZID=America/New_York:20250402T130000
DTEND;TZID=America/New_York:20250402T143000
DTSTAMP:20260424T060244
CREATED:20250401T200642Z
LAST-MODIFIED:20250401T200642Z
UID:11084-1743598800-1743604200@earlylearningcoalitionsarasota.org
SUMMARY:Communications Committee Meeting
DESCRIPTION:Online Zoom meeting\, subject to change.
URL:https://earlylearningcoalitionsarasota.org/event/communications-committee-meeting-18
CATEGORIES:ELC Events
END:VEVENT
BEGIN:VEVENT
DTSTART;TZID=America/New_York:20250331T180000
DTEND;TZID=America/New_York:20250331T200000
DTSTAMP:20260424T060244
CREATED:20250305T191006Z
LAST-MODIFIED:20250305T191006Z
UID:11042-1743444000-1743451200@earlylearningcoalitionsarasota.org
SUMMARY:The Story Begins Here: Suncoast Launch Dinner
DESCRIPTION:Multiple ELC Board members plan to attend this evening of conversation and connection.  Discover how Bernie’s Book Bank transforms children’s stories through the power of book ownership.  Tickets for the event are at:  https://giveflorida.berniesbookbank.org/event/story-begins-here-suncoast-launch-event/e662621
URL:https://earlylearningcoalitionsarasota.org/event/the-story-begins-here-suncoast-launch-dinner
LOCATION:Waterworks Sarasota\, 1005 N Orange Ave\, Sarasota\, FL\, 34236\, United States
END:VEVENT
BEGIN:VEVENT
DTSTART;TZID=America/New_York:20250328T093000
DTEND;TZID=America/New_York:20250328T103000
DTSTAMP:20260424T060244
CREATED:20250307T143538Z
LAST-MODIFIED:20250307T143538Z
UID:11057-1743154200-1743157800@earlylearningcoalitionsarasota.org
SUMMARY:ELC Childcare Business Task Force meeting
DESCRIPTION:Board members will be attending.
URL:https://earlylearningcoalitionsarasota.org/event/elc-childcare-business-task-force-meeting
LOCATION:6003 Honore Ave\, Suite 106\, 6003 Honore Ave\, Suite 106\, Sarasota\, 34238\, United States
END:VEVENT
BEGIN:VEVENT
DTSTART;TZID=America/New_York:20250326T150000
DTEND;TZID=America/New_York:20250326T160000
DTSTAMP:20260424T060244
CREATED:20250326T135441Z
LAST-MODIFIED:20250326T135441Z
UID:11081-1743001200-1743004800@earlylearningcoalitionsarasota.org
SUMMARY:Communications Committee Meeting
DESCRIPTION:Via Zoom
URL:https://earlylearningcoalitionsarasota.org/event/communications-committee-meeting-17
END:VEVENT
BEGIN:VEVENT
DTSTART;TZID=America/New_York:20250307T110000
DTEND;TZID=America/New_York:20250307T130000
DTSTAMP:20260424T060244
CREATED:20250307T143245Z
LAST-MODIFIED:20250307T143245Z
UID:11054-1741345200-1741352400@earlylearningcoalitionsarasota.org
SUMMARY:2025 Women Empowering Women Spring Luncheon
DESCRIPTION:Multiple Board members will be attending this event\, hosted by Venice Area Chamber of Commerce.  Admission fee required. \nEarly Learning Coalition of Sarasota County is a Spotlight Partner.
URL:https://earlylearningcoalitionsarasota.org/event/2025-women-empowering-women-spring-luncheon
LOCATION:Venice Yacht Club\, 1330 Tarpon Center Drive\, Venice\, FL\, 34285\, United States
END:VEVENT
BEGIN:VEVENT
DTSTART;TZID=America/New_York:20250306T100000
DTEND;TZID=America/New_York:20250306T130000
DTSTAMP:20260424T060244
CREATED:20250305T191449Z
LAST-MODIFIED:20250305T191449Z
UID:11045-1741255200-1741266000@earlylearningcoalitionsarasota.org
SUMMARY:Board Orientation
DESCRIPTION:In person Board member orientation.
URL:https://earlylearningcoalitionsarasota.org/event/board-orientation
LOCATION:ELC 17th St\, 1750 17th St\, Building L\, Sarasota\, FL\, 34234\, United States
END:VEVENT
BEGIN:VEVENT
DTSTART;TZID=America/New_York:20241212T113000
DTEND;TZID=America/New_York:20241212T133000
DTSTAMP:20260424T060244
CREATED:20241211T170026Z
LAST-MODIFIED:20241211T183856Z
UID:10926-1734003000-1734010200@earlylearningcoalitionsarasota.org
SUMMARY:North Port Chamber of Commerce Annual Awards luncheon
DESCRIPTION:
URL:https://earlylearningcoalitionsarasota.org/event/north-port-chamber-of-commerce-annual-awards-luncheon
LOCATION:Plantation Golf & Country Venice\, 500 Rockley Blvd\, Venice\, FL\, 34293\, United States
END:VEVENT
BEGIN:VEVENT
DTSTART;TZID=America/New_York:20240918T180000
DTEND;TZID=America/New_York:20240918T190000
DTSTAMP:20260424T060244
CREATED:20230713T140908Z
LAST-MODIFIED:20240822T133214Z
UID:10480-1726682400-1726686000@earlylearningcoalitionsarasota.org
SUMMARY:Board of Directors Meeting
DESCRIPTION:In person meeting
URL:https://earlylearningcoalitionsarasota.org/event/board-of-directors-meeting-11
LOCATION:6003 Honore Ave\, Suite 106\, 6003 Honore Ave\, Suite 106\, Sarasota\, 34238\, United States
END:VEVENT
BEGIN:VEVENT
DTSTART;TZID=America/New_York:20240918T123000
DTEND;TZID=America/New_York:20240918T133000
DTSTAMP:20260424T060244
CREATED:20230713T130024Z
LAST-MODIFIED:20240822T133306Z
UID:10373-1726662600-1726666200@earlylearningcoalitionsarasota.org
SUMMARY:Directors Connection
DESCRIPTION:Join Zoom Meeting- here is the link \nhttps://us06web.zoom.us/j/96625795873 \nMeeting ID: 966 2579 5873 \nDial by your location \n+1 346 248 7799 US (Houston) \n+1 669 444 9171 US \n  Please download and import the following iCalendar (.ics) files to your calendar system. \nMonthly: https://us06web.zoom.us/meeting/tJIrdeyvpz4iHde2JpsoAF0ENc99H0zbKz3B/ics?icsToken=98tyKuCuqDkvHd2QuB6ERowABIjoZ-3xmCVHgqdYzjX1EC9yRFPTGOEba5ovCtr7 \nJoin Zoom Meeting- here is the link \nhttps://us06web.zoom.us/j/96625795873
URL:https://earlylearningcoalitionsarasota.org/event/directors-connection-10
END:VEVENT
BEGIN:VEVENT
DTSTART;TZID=America/New_York:20240917T083000
DTEND;TZID=America/New_York:20240917T100000
DTSTAMP:20260424T060244
CREATED:20230713T133700Z
LAST-MODIFIED:20240822T133349Z
UID:10420-1726561800-1726567200@earlylearningcoalitionsarasota.org
SUMMARY:Budget/Finance and Governance Committee Meeting
DESCRIPTION:Online Zoom meeting\, subject to change.
URL:https://earlylearningcoalitionsarasota.org/event/budget-finance-and-governance-committee-meeting-12
END:VEVENT
BEGIN:VEVENT
DTSTART;TZID=America/New_York:20240911T150000
DTEND;TZID=America/New_York:20240911T160000
DTSTAMP:20260424T060244
CREATED:20230713T135422Z
LAST-MODIFIED:20240822T133418Z
UID:10450-1726066800-1726070400@earlylearningcoalitionsarasota.org
SUMMARY:Communications Committee Meeting
DESCRIPTION:Online Zoom meeting\, subject to change.
URL:https://earlylearningcoalitionsarasota.org/event/communications-committee-meeting-11
END:VEVENT
BEGIN:VEVENT
DTSTART;TZID=America/New_York:20240617T103000
DTEND;TZID=America/New_York:20240617T120000
DTSTAMP:20260424T060244
CREATED:20240611T122022Z
LAST-MODIFIED:20240611T122022Z
UID:10803-1718620200-1718625600@earlylearningcoalitionsarasota.org
SUMMARY:Information Meeting for Businesses on childcare issues
DESCRIPTION:This is a follow up Business Task Force meeting.  Since so many who answered the survey are interested in learning more about several issues including tax credits for those businesses that can offer onsite childcare or assist their employees through financial support\, we have set up an initial meeting to share more details. \nRepresentative Fiona McFarland who strongly advocated for these business tax credits will be speaking at this meeting on Monday\, June 17th from 10:30 to noon to share the details of what she was able to get passed this year during legislative session. ELC will be there as well to share additional information for local businesses on childcare as well as opportunities for task force involvement to continue to work on the issues.
URL:https://earlylearningcoalitionsarasota.org/event/information-meeting-for-businesses-on-childcare-issues
LOCATION:Realtor Association of Sarasota and Manatee\, Inc.\, 2320 Cattlemen Road\, Sarasota\, 34232\, United States
END:VEVENT
BEGIN:VEVENT
DTSTART;TZID=America/New_York:20240417T180000
DTEND;TZID=America/New_York:20240417T190000
DTSTAMP:20260424T060244
CREATED:20230713T140709Z
LAST-MODIFIED:20230713T140709Z
UID:10474-1713376800-1713380400@earlylearningcoalitionsarasota.org
SUMMARY:Board of Directors Meeting
DESCRIPTION:In person meeting
URL:https://earlylearningcoalitionsarasota.org/event/board-of-directors-meeting-9
LOCATION:6003 Honore Ave\, Suite 106\, 6003 Honore Ave\, Suite 106\, Sarasota\, 34238\, United States
END:VEVENT
BEGIN:VEVENT
DTSTART;TZID=America/New_York:20240417T123000
DTEND;TZID=America/New_York:20240417T133000
DTSTAMP:20260424T060244
CREATED:20230713T125812Z
LAST-MODIFIED:20230713T130226Z
UID:10370-1713357000-1713360600@earlylearningcoalitionsarasota.org
SUMMARY:Directors Connection
DESCRIPTION:Join Zoom Meeting- here is the link \nhttps://us06web.zoom.us/j/96625795873 \nMeeting ID: 966 2579 5873 \nDial by your location \n+1 346 248 7799 US (Houston) \n+1 669 444 9171 US \n  Please download and import the following iCalendar (.ics) files to your calendar system. \nMonthly: https://us06web.zoom.us/meeting/tJIrdeyvpz4iHde2JpsoAF0ENc99H0zbKz3B/ics?icsToken=98tyKuCuqDkvHd2QuB6ERowABIjoZ-3xmCVHgqdYzjX1EC9yRFPTGOEba5ovCtr7 \nJoin Zoom Meeting- here is the link \nhttps://us06web.zoom.us/j/96625795873
URL:https://earlylearningcoalitionsarasota.org/event/directors-connection-9
END:VEVENT
BEGIN:VEVENT
DTSTART;TZID=America/New_York:20240416T083000
DTEND;TZID=America/New_York:20240416T100000
DTSTAMP:20260424T060244
CREATED:20230713T133457Z
LAST-MODIFIED:20230713T133457Z
UID:10414-1713256200-1713261600@earlylearningcoalitionsarasota.org
SUMMARY:Budget/Finance and Governance Committee Meeting
DESCRIPTION:Online Zoom meeting\, subject to change.
URL:https://earlylearningcoalitionsarasota.org/event/budget-finance-and-governance-committee-meeting-10
END:VEVENT
BEGIN:VEVENT
DTSTART;TZID=America/New_York:20240410T150000
DTEND;TZID=America/New_York:20240410T160000
DTSTAMP:20260424T060244
CREATED:20230713T135150Z
LAST-MODIFIED:20230713T135150Z
UID:10444-1712761200-1712764800@earlylearningcoalitionsarasota.org
SUMMARY:Communications Committee Meeting
DESCRIPTION:Online Zoom meeting\, subject to change.
URL:https://earlylearningcoalitionsarasota.org/event/communications-committee-meeting-9
END:VEVENT
BEGIN:VEVENT
DTSTART;TZID=America/New_York:20240322T133000
DTEND;TZID=America/New_York:20240322T143000
DTSTAMP:20260424T060244
CREATED:20240314T124306Z
LAST-MODIFIED:20240314T124306Z
UID:10720-1711114200-1711117800@earlylearningcoalitionsarasota.org
SUMMARY:ELC Storybook Follow-up Meeting
DESCRIPTION:Call 941-954-4830\, Ext. 224 for meeting information.
URL:https://earlylearningcoalitionsarasota.org/event/elc-storybook-follow-up-meeting
LOCATION:State College of Florida\, Lakewood Ranch Campus\, 7131 Professional Pkwy\, Bldg 7131\, Suite 134\, Sarasota\, FL\, United States
END:VEVENT
BEGIN:VEVENT
DTSTART;TZID=America/New_York:20240320T123000
DTEND;TZID=America/New_York:20240320T140000
DTSTAMP:20260424T060244
CREATED:20230713T125657Z
LAST-MODIFIED:20240314T124815Z
UID:10367-1710937800-1710943200@earlylearningcoalitionsarasota.org
SUMMARY:Directors Connection
DESCRIPTION:In person meeting this month.
URL:https://earlylearningcoalitionsarasota.org/event/directors-connection-8
LOCATION:6003 Honore Ave\, Suite 106\, 6003 Honore Ave\, Suite 106\, Sarasota\, 34238\, United States
END:VEVENT
BEGIN:VEVENT
DTSTART;TZID=America/New_York:20240319T083000
DTEND;TZID=America/New_York:20240319T100000
DTSTAMP:20260424T060244
CREATED:20230713T133404Z
LAST-MODIFIED:20230713T133404Z
UID:10411-1710837000-1710842400@earlylearningcoalitionsarasota.org
SUMMARY:Budget/Finance and Governance Committee Meeting
DESCRIPTION:Online Zoom meeting\, subject to change.
URL:https://earlylearningcoalitionsarasota.org/event/budget-finance-and-governance-committee-meeting-9
END:VEVENT
BEGIN:VEVENT
DTSTART;TZID=America/New_York:20240313T150000
DTEND;TZID=America/New_York:20240313T160000
DTSTAMP:20260424T060244
CREATED:20230713T135042Z
LAST-MODIFIED:20230713T135042Z
UID:10441-1710342000-1710345600@earlylearningcoalitionsarasota.org
SUMMARY:Communications Committee Meeting
DESCRIPTION:Online Zoom meeting\, subject to change.
URL:https://earlylearningcoalitionsarasota.org/event/communications-committee-meeting-8
END:VEVENT
BEGIN:VEVENT
DTSTART;TZID=America/New_York:20240307T090000
DTEND;TZID=America/New_York:20240307T100000
DTSTAMP:20260424T060244
CREATED:20240222T213011Z
LAST-MODIFIED:20240222T213439Z
UID:10714-1709802000-1709805600@earlylearningcoalitionsarasota.org
SUMMARY:Board Members Joining the Early Childhood Task Force ZOOM call
DESCRIPTION:Call 941-954-4830\, Ext. 224 for meeting information.
URL:https://earlylearningcoalitionsarasota.org/event/board-members-joining-the-early-childhood-task-force-zoom-call
END:VEVENT
BEGIN:VEVENT
DTSTART;TZID=America/New_York:20240224T090000
DTEND;TZID=America/New_York:20240224T110000
DTSTAMP:20260424T060244
CREATED:20230913T152314Z
LAST-MODIFIED:20230913T152314Z
UID:10574-1708765200-1708772400@earlylearningcoalitionsarasota.org
SUMMARY:Storybook Street
DESCRIPTION:Free and open to the public \nFor more info: amcclendon@elcsarasota.org
URL:https://earlylearningcoalitionsarasota.org/event/storybook-street
LOCATION:State College of Florida\, Venice Campus\, 8000 S Tamiami Trail\, Venice\, FL\, 34293\, United States
END:VEVENT
BEGIN:VEVENT
DTSTART;TZID=America/New_York:20240221T180000
DTEND;TZID=America/New_York:20240221T190000
DTSTAMP:20260424T060244
CREATED:20240223T124836Z
LAST-MODIFIED:20240223T124836Z
UID:10717-1708538400-1708542000@earlylearningcoalitionsarasota.org
SUMMARY:Board of Directors Meeting
DESCRIPTION:In person
URL:https://earlylearningcoalitionsarasota.org/event/board-of-directors-meeting-5
LOCATION:6003 Honore Ave\, Suite 106\, 6003 Honore Ave\, Suite 106\, Sarasota\, 34238\, United States
END:VEVENT
BEGIN:VEVENT
DTSTART;TZID=America/New_York:20240221T123000
DTEND;TZID=America/New_York:20240221T133000
DTSTAMP:20260424T060244
CREATED:20230713T125539Z
LAST-MODIFIED:20230713T130343Z
UID:10364-1708518600-1708522200@earlylearningcoalitionsarasota.org
SUMMARY:Directors Connection
DESCRIPTION:Join Zoom Meeting- here is the link \nhttps://us06web.zoom.us/j/96625795873 \nMeeting ID: 966 2579 5873 \nDial by your location \n+1 346 248 7799 US (Houston) \n+1 669 444 9171 US \n  Please download and import the following iCalendar (.ics) files to your calendar system. \nMonthly: https://us06web.zoom.us/meeting/tJIrdeyvpz4iHde2JpsoAF0ENc99H0zbKz3B/ics?icsToken=98tyKuCuqDkvHd2QuB6ERowABIjoZ-3xmCVHgqdYzjX1EC9yRFPTGOEba5ovCtr7 \nJoin Zoom Meeting- here is the link \nhttps://us06web.zoom.us/j/96625795873
URL:https://earlylearningcoalitionsarasota.org/event/directors-connection-7
END:VEVENT
END:VCALENDAR