BEGIN:VCALENDAR
VERSION:2.0
PRODID:-//ELC - ECPv6.15.16//NONSGML v1.0//EN
CALSCALE:GREGORIAN
METHOD:PUBLISH
X-WR-CALNAME:ELC
X-ORIGINAL-URL:https://earlylearningcoalitionsarasota.org
X-WR-CALDESC:Events for ELC
REFRESH-INTERVAL;VALUE=DURATION:PT1H
X-Robots-Tag:noindex
X-PUBLISHED-TTL:PT1H
BEGIN:VTIMEZONE
TZID:America/New_York
BEGIN:DAYLIGHT
TZOFFSETFROM:-0500
TZOFFSETTO:-0400
TZNAME:EDT
DTSTART:20240310T070000
END:DAYLIGHT
BEGIN:STANDARD
TZOFFSETFROM:-0400
TZOFFSETTO:-0500
TZNAME:EST
DTSTART:20241103T060000
END:STANDARD
BEGIN:DAYLIGHT
TZOFFSETFROM:-0500
TZOFFSETTO:-0400
TZNAME:EDT
DTSTART:20250309T070000
END:DAYLIGHT
BEGIN:STANDARD
TZOFFSETFROM:-0400
TZOFFSETTO:-0500
TZNAME:EST
DTSTART:20251102T060000
END:STANDARD
BEGIN:DAYLIGHT
TZOFFSETFROM:-0500
TZOFFSETTO:-0400
TZNAME:EDT
DTSTART:20260308T070000
END:DAYLIGHT
BEGIN:STANDARD
TZOFFSETFROM:-0400
TZOFFSETTO:-0500
TZNAME:EST
DTSTART:20261101T060000
END:STANDARD
END:VTIMEZONE
BEGIN:VEVENT
DTSTART;TZID=America/New_York:20250306T100000
DTEND;TZID=America/New_York:20250306T130000
DTSTAMP:20260422T080241
CREATED:20250305T191449Z
LAST-MODIFIED:20250305T191449Z
UID:11045-1741255200-1741266000@earlylearningcoalitionsarasota.org
SUMMARY:Board Orientation
DESCRIPTION:In person Board member orientation.
URL:https://earlylearningcoalitionsarasota.org/event/board-orientation
LOCATION:ELC 17th St\, 1750 17th St\, Building L\, Sarasota\, FL\, 34234\, United States
END:VEVENT
BEGIN:VEVENT
DTSTART;TZID=America/New_York:20250307T110000
DTEND;TZID=America/New_York:20250307T130000
DTSTAMP:20260422T080241
CREATED:20250307T143245Z
LAST-MODIFIED:20250307T143245Z
UID:11054-1741345200-1741352400@earlylearningcoalitionsarasota.org
SUMMARY:2025 Women Empowering Women Spring Luncheon
DESCRIPTION:Multiple Board members will be attending this event\, hosted by Venice Area Chamber of Commerce.  Admission fee required. \nEarly Learning Coalition of Sarasota County is a Spotlight Partner.
URL:https://earlylearningcoalitionsarasota.org/event/2025-women-empowering-women-spring-luncheon
LOCATION:Venice Yacht Club\, 1330 Tarpon Center Drive\, Venice\, FL\, 34285\, United States
END:VEVENT
BEGIN:VEVENT
DTSTART;TZID=America/New_York:20250326T150000
DTEND;TZID=America/New_York:20250326T160000
DTSTAMP:20260422T080241
CREATED:20250326T135441Z
LAST-MODIFIED:20250326T135441Z
UID:11081-1743001200-1743004800@earlylearningcoalitionsarasota.org
SUMMARY:Communications Committee Meeting
DESCRIPTION:Via Zoom
URL:https://earlylearningcoalitionsarasota.org/event/communications-committee-meeting-17
END:VEVENT
BEGIN:VEVENT
DTSTART;TZID=America/New_York:20250328T093000
DTEND;TZID=America/New_York:20250328T103000
DTSTAMP:20260422T080241
CREATED:20250307T143538Z
LAST-MODIFIED:20250307T143538Z
UID:11057-1743154200-1743157800@earlylearningcoalitionsarasota.org
SUMMARY:ELC Childcare Business Task Force meeting
DESCRIPTION:Board members will be attending.
URL:https://earlylearningcoalitionsarasota.org/event/elc-childcare-business-task-force-meeting
LOCATION:6003 Honore Ave\, Suite 106\, 6003 Honore Ave\, Suite 106\, Sarasota\, 34238\, United States
END:VEVENT
BEGIN:VEVENT
DTSTART;TZID=America/New_York:20250331T180000
DTEND;TZID=America/New_York:20250331T200000
DTSTAMP:20260422T080241
CREATED:20250305T191006Z
LAST-MODIFIED:20250305T191006Z
UID:11042-1743444000-1743451200@earlylearningcoalitionsarasota.org
SUMMARY:The Story Begins Here: Suncoast Launch Dinner
DESCRIPTION:Multiple ELC Board members plan to attend this evening of conversation and connection.  Discover how Bernie’s Book Bank transforms children’s stories through the power of book ownership.  Tickets for the event are at:  https://giveflorida.berniesbookbank.org/event/story-begins-here-suncoast-launch-event/e662621
URL:https://earlylearningcoalitionsarasota.org/event/the-story-begins-here-suncoast-launch-dinner
LOCATION:Waterworks Sarasota\, 1005 N Orange Ave\, Sarasota\, FL\, 34236\, United States
END:VEVENT
END:VCALENDAR