BEGIN:VCALENDAR
VERSION:2.0
PRODID:-//ELC - ECPv6.15.16//NONSGML v1.0//EN
CALSCALE:GREGORIAN
METHOD:PUBLISH
X-WR-CALNAME:ELC
X-ORIGINAL-URL:https://earlylearningcoalitionsarasota.org
X-WR-CALDESC:Events for ELC
REFRESH-INTERVAL;VALUE=DURATION:PT1H
X-Robots-Tag:noindex
X-PUBLISHED-TTL:PT1H
BEGIN:VTIMEZONE
TZID:America/New_York
BEGIN:DAYLIGHT
TZOFFSETFROM:-0500
TZOFFSETTO:-0400
TZNAME:EDT
DTSTART:20240310T070000
END:DAYLIGHT
BEGIN:STANDARD
TZOFFSETFROM:-0400
TZOFFSETTO:-0500
TZNAME:EST
DTSTART:20241103T060000
END:STANDARD
BEGIN:DAYLIGHT
TZOFFSETFROM:-0500
TZOFFSETTO:-0400
TZNAME:EDT
DTSTART:20250309T070000
END:DAYLIGHT
BEGIN:STANDARD
TZOFFSETFROM:-0400
TZOFFSETTO:-0500
TZNAME:EST
DTSTART:20251102T060000
END:STANDARD
BEGIN:DAYLIGHT
TZOFFSETFROM:-0500
TZOFFSETTO:-0400
TZNAME:EDT
DTSTART:20260308T070000
END:DAYLIGHT
BEGIN:STANDARD
TZOFFSETFROM:-0400
TZOFFSETTO:-0500
TZNAME:EST
DTSTART:20261101T060000
END:STANDARD
END:VTIMEZONE
BEGIN:VEVENT
DTSTART;TZID=America/New_York:20250520T140000
DTEND;TZID=America/New_York:20250520T150000
DTSTAMP:20260424T021726
CREATED:20250514T203601Z
LAST-MODIFIED:20250514T203601Z
UID:11127-1747749600-1747753200@earlylearningcoalitionsarasota.org
SUMMARY:ZOOM ELC Communications Committee Meeting
DESCRIPTION:Online meeting via Zoom
URL:https://earlylearningcoalitionsarasota.org/event/zoom-elc-communications-committee-meeting
END:VEVENT
BEGIN:VEVENT
DTSTART;TZID=America/New_York:20250527T110000
DTEND;TZID=America/New_York:20250527T130000
DTSTAMP:20260424T021726
CREATED:20250521T123636Z
LAST-MODIFIED:20250521T123636Z
UID:11168-1748343600-1748350800@earlylearningcoalitionsarasota.org
SUMMARY:ELC Board - CEO search committee meeting
DESCRIPTION:Multiple board members will be present.
URL:https://earlylearningcoalitionsarasota.org/event/elc-board-ceo-search-committee-meeting
LOCATION:5391 Lakewood Ranch Blvd Suite 103\, 5391 Lakewood Ranch Blvd Suite 103\, Sarasota\, FL\, 34240\, United States
END:VEVENT
END:VCALENDAR