BEGIN:VCALENDAR
VERSION:2.0
PRODID:-//ELC - ECPv6.15.16//NONSGML v1.0//EN
CALSCALE:GREGORIAN
METHOD:PUBLISH
X-WR-CALNAME:ELC
X-ORIGINAL-URL:https://earlylearningcoalitionsarasota.org
X-WR-CALDESC:Events for ELC
REFRESH-INTERVAL;VALUE=DURATION:PT1H
X-Robots-Tag:noindex
X-PUBLISHED-TTL:PT1H
BEGIN:VTIMEZONE
TZID:America/New_York
BEGIN:DAYLIGHT
TZOFFSETFROM:-0500
TZOFFSETTO:-0400
TZNAME:EDT
DTSTART:20250309T070000
END:DAYLIGHT
BEGIN:STANDARD
TZOFFSETFROM:-0400
TZOFFSETTO:-0500
TZNAME:EST
DTSTART:20251102T060000
END:STANDARD
BEGIN:DAYLIGHT
TZOFFSETFROM:-0500
TZOFFSETTO:-0400
TZNAME:EDT
DTSTART:20260308T070000
END:DAYLIGHT
BEGIN:STANDARD
TZOFFSETFROM:-0400
TZOFFSETTO:-0500
TZNAME:EST
DTSTART:20261101T060000
END:STANDARD
BEGIN:DAYLIGHT
TZOFFSETFROM:-0500
TZOFFSETTO:-0400
TZNAME:EDT
DTSTART:20270314T070000
END:DAYLIGHT
BEGIN:STANDARD
TZOFFSETFROM:-0400
TZOFFSETTO:-0500
TZNAME:EST
DTSTART:20271107T060000
END:STANDARD
END:VTIMEZONE
BEGIN:VEVENT
DTSTART;TZID=America/New_York:20260120T080000
DTEND;TZID=America/New_York:20260120T093000
DTSTAMP:20260423T124035
CREATED:20251210T130949Z
LAST-MODIFIED:20251231T135243Z
UID:11345-1768896000-1768901400@earlylearningcoalitionsarasota.org
SUMMARY:Finance Committee Meeting
DESCRIPTION:Online Zoom meeting. Please contact information@elcsarasota.org for the meeting link.
URL:https://earlylearningcoalitionsarasota.org/event/finance-committee-meeting
END:VEVENT
BEGIN:VEVENT
DTSTART;TZID=America/New_York:20260121T180000
DTEND;TZID=America/New_York:20260121T193000
DTSTAMP:20260423T124035
CREATED:20251210T130546Z
LAST-MODIFIED:20251210T130546Z
UID:11341-1769018400-1769023800@earlylearningcoalitionsarasota.org
SUMMARY:Board of Directors Meeting
DESCRIPTION:
URL:https://earlylearningcoalitionsarasota.org/event/board-of-directors-meeting-8
LOCATION:6003 Honore Ave\, Suite 106\, 6003 Honore Ave\, Suite 106\, Sarasota\, 34238\, United States
END:VEVENT
END:VCALENDAR